BEGIN:VCALENDAR
VERSION:2.0
PRODID:-//stadtjournal.online - ECPv6.15.18//NONSGML v1.0//EN
CALSCALE:GREGORIAN
METHOD:PUBLISH
X-WR-CALNAME:stadtjournal.online
X-ORIGINAL-URL:https://www.stadtjournal.online
X-WR-CALDESC:Veranstaltungen für stadtjournal.online
REFRESH-INTERVAL;VALUE=DURATION:PT1H
X-Robots-Tag:noindex
X-PUBLISHED-TTL:PT1H
BEGIN:VTIMEZONE
TZID:Europe/Berlin
BEGIN:DAYLIGHT
TZOFFSETFROM:+0100
TZOFFSETTO:+0200
TZNAME:CEST
DTSTART:20250330T010000
END:DAYLIGHT
BEGIN:STANDARD
TZOFFSETFROM:+0200
TZOFFSETTO:+0100
TZNAME:CET
DTSTART:20251026T010000
END:STANDARD
BEGIN:DAYLIGHT
TZOFFSETFROM:+0100
TZOFFSETTO:+0200
TZNAME:CEST
DTSTART:20260329T010000
END:DAYLIGHT
BEGIN:STANDARD
TZOFFSETFROM:+0200
TZOFFSETTO:+0100
TZNAME:CET
DTSTART:20261025T010000
END:STANDARD
BEGIN:DAYLIGHT
TZOFFSETFROM:+0100
TZOFFSETTO:+0200
TZNAME:CEST
DTSTART:20270328T010000
END:DAYLIGHT
BEGIN:STANDARD
TZOFFSETFROM:+0200
TZOFFSETTO:+0100
TZNAME:CET
DTSTART:20271031T010000
END:STANDARD
END:VTIMEZONE
BEGIN:VEVENT
DTSTART;TZID=Europe/Berlin:20260420T180000
DTEND;TZID=Europe/Berlin:20260420T180000
DTSTAMP:20260420T021628
CREATED:20260321T074142Z
LAST-MODIFIED:20260310T134640Z
UID:17251-1776708000-1776708000@www.stadtjournal.online
SUMMARY:Der Rhein – Ein ganz besonderer Fluss
DESCRIPTION:Linz a. Rhein. Mo\, 20. April 2026\, 18 Uhr \nVortrag in Linz nimmt Besucher:innen mit auf eine Reise von den Alpen bis zur Nordsee \nDer Rhein gehört zu den prägendsten Flüssen Europas. Auf seinem über 1.200 Kilometer langen Weg von den Gletscherregionen der Alpen bis zum weit verzweigten Delta in den Niederlanden formt er Landschaften\, beeinflusst Wirtschaft und Kultur und ist Lebensraum für Millionen Menschen. Ein Vortrag der KreisVolkshochschule Neuwied – Außenstelle Linz widmet sich nun diesem außergewöhnlichen Strom und seinen vielfältigen Facetten. \nAm Montag\, 20. April 2026\, lädt die kvhs zu einem informativen Abend rund um den Rhein ein. Referent Wilfried Hausmann\, ehemaliger Wehrleiter der Stadt Neuwied und Fachplaner für Starkregenvorsorge\, nimmt die Teilnehmenden mit auf eine spannende Reise entlang des Flusses. Beginnend bei der Quelle in den Schweizer Alpen führt der Vortrag über die Stromschnellen und das weltberühmte Mittelrheintal bis hin zur Mündung in die Nordsee. \nDabei geht es nicht nur um geografische und hydrologische Fakten. Hausmann beleuchtet auch die kulturelle und historische Bedeutung des Rheins sowie seine Rolle für Handel\, Verkehr und Hochwasserschutz. Zudem wird der Blick auf aktuelle Herausforderungen gelenkt: Wie verändert der Klimawandel den Fluss und seine Landschaften? Und was bedeutet es heute\, in einer Region zu leben\, die so eng mit dem Rhein verbunden ist? \nDer Vortrag verbindet fundiertes Wissen mit anschaulichen Einblicken und richtet sich an alle\, die den Rhein lieben oder neu entdecken möchten. Die Veranstaltung findet in Kooperation mit dem Klimaschutzmanagement der Kreisverwaltung statt. \nDer Vortrag beginnt um 18 Uhr. Veranstaltungsort ist die Verbandsgemeindeverwaltung Linz. Die Teilnahmegebühr beträgt 5 Euro. Eine Anmeldung ist bei der Außenstelle Linz unter 0 26 44 / 56 01 11 möglich sowie unter www.kvhs-neuwied.de/L185-26-1
URL:https://www.stadtjournal.online/event/der-rhein-ein-ganz-besonderer-fluss/
LOCATION:Verbandsgemeindeverwaltung Linz\, Am Schoppbüchel 5\, Linz am Rhein\, 53545
ATTACH;FMTTYPE=image/jpeg:https://www.stadtjournal.online/wp-content/uploads/2026/03/Flyer-Rhein.jpg
END:VEVENT
END:VCALENDAR