BEGIN:VCALENDAR
VERSION:2.0
PRODID:-//stadtjournal.online - ECPv6.15.18//NONSGML v1.0//EN
CALSCALE:GREGORIAN
METHOD:PUBLISH
X-WR-CALNAME:stadtjournal.online
X-ORIGINAL-URL:https://www.stadtjournal.online
X-WR-CALDESC:Veranstaltungen für stadtjournal.online
REFRESH-INTERVAL;VALUE=DURATION:PT1H
X-Robots-Tag:noindex
X-PUBLISHED-TTL:PT1H
BEGIN:VTIMEZONE
TZID:Europe/Berlin
BEGIN:DAYLIGHT
TZOFFSETFROM:+0100
TZOFFSETTO:+0200
TZNAME:CEST
DTSTART:20250330T010000
END:DAYLIGHT
BEGIN:STANDARD
TZOFFSETFROM:+0200
TZOFFSETTO:+0100
TZNAME:CET
DTSTART:20251026T010000
END:STANDARD
BEGIN:DAYLIGHT
TZOFFSETFROM:+0100
TZOFFSETTO:+0200
TZNAME:CEST
DTSTART:20260329T010000
END:DAYLIGHT
BEGIN:STANDARD
TZOFFSETFROM:+0200
TZOFFSETTO:+0100
TZNAME:CET
DTSTART:20261025T010000
END:STANDARD
BEGIN:DAYLIGHT
TZOFFSETFROM:+0100
TZOFFSETTO:+0200
TZNAME:CEST
DTSTART:20270328T010000
END:DAYLIGHT
BEGIN:STANDARD
TZOFFSETFROM:+0200
TZOFFSETTO:+0100
TZNAME:CET
DTSTART:20271031T010000
END:STANDARD
END:VTIMEZONE
BEGIN:VEVENT
DTSTART;TZID=Europe/Berlin:20260421T150000
DTEND;TZID=Europe/Berlin:20260421T163000
DTSTAMP:20260421T173758
CREATED:20260321T095521Z
LAST-MODIFIED:20260321T095521Z
UID:17523-1776783600-1776789000@www.stadtjournal.online
SUMMARY:Gemeinsames Spielen
DESCRIPTION:Bad Honnef. Di\, 21. April 2026\, 15.00 – 16.30 Uhr \nDas gemeinsame Spielen macht Spaß und bringt Menschen zusammen. Ein Nachmittag mit Karten- oder Gesellschaftsspielen. Eine Veranstaltung der Initiative „gemeinsam statt einsam“. Die Veranstaltung ist kostenfrei und barrierefrei. \nHaus am Drachenfels\, Rhöndorfer Str. 80 b \nFoto: © InputUX #611124372\,stock.adobe.com
URL:https://www.stadtjournal.online/event/gemeinsames-spielen-4/
LOCATION:Haus am Drachenfels\, Rhöndorfer Str. 80 b\, Bad Honnef\, 53604
ATTACH;FMTTYPE=image/jpeg:https://www.stadtjournal.online/wp-content/uploads/2025/08/gemeinsam-spielen-senior-InputUXAdobeStock_611124372.jpg
END:VEVENT
BEGIN:VEVENT
DTSTART;TZID=Europe/Berlin:20260421T160000
DTEND;TZID=Europe/Berlin:20260421T180000
DTSTAMP:20260421T173758
CREATED:20260117T163742Z
LAST-MODIFIED:20260316T110146Z
UID:16734-1776787200-1776794400@www.stadtjournal.online
SUMMARY:Computerhilfe
DESCRIPTION:Bad Honnef. Di\, 21. April 2026\, 16.00 – 18.00 Uhr \nDie ehrenamtliche Projektgruppe „Computer & Internet” bietet individuelle kostenlose Sprechstunden an. Eine vorherige Anmeldung ist erforderlich unter: 0157 / 71 70 94 75 \nDRK Deutsche Rote Kreuz\nAustr. 29\n53604 Bad Honnef \nFoto: ©buritora #457623198\, stock.adobe.com
URL:https://www.stadtjournal.online/event/computerhilfe-14/
ATTACH;FMTTYPE=image/jpeg:https://www.stadtjournal.online/wp-content/uploads/2024/01/computer-senior-frau-buritoraAdobeStock_457623198.jpg
END:VEVENT
BEGIN:VEVENT
DTSTART;TZID=Europe/Berlin:20260421T180000
DTEND;TZID=Europe/Berlin:20260421T193000
DTSTAMP:20260421T173758
CREATED:20260321T075249Z
LAST-MODIFIED:20260320T121205Z
UID:15061-1776794400-1776799800@www.stadtjournal.online
SUMMARY:Mehr Harmonie in Beziehungen
DESCRIPTION:Oberpleis. Di\, 21. April 2026\, 18.00 – 19.30 Uhr \nJacques Martel\, kanadischer Psychotherapeut\, entwickelte die Strichmännchen-Technik als eine neue Selbstcoaching-Methode für die emotionalen Selbstheilung. Erfahren Sie an diesem Abend mit unserer Dozentin die sieben Schritte\, die zu mehr innerer Harmonie verhelfen sollen. Im Zentrum steht durch Visualisierung und Akzeptanz belastende Beziehungen in gute Beziehungen umzuwandeln. \nDr. Mireille Natanson ist Musikwissenschaftlerin und -pädagogin und durch ihre Fortbildungen Mitglied der Deutschen Gesellschaft für Angewandte Kinesiologie (DGAK). \nDieser Kurs ist kein Ersatz für psychotherapeutische oder medizinische Behandlungen. \nMaterialien: Bitte mitbringen: weißes Papier\, Stift und Schere \nKursnr.: E20204\nKursort: Mosaik\, Raum 3\, Boserother Str. 74\nGebühr: 14 EUR \nVolkshochschule Siebengebirge\nBoserother Straße 74\n53639 Königswinter-Oberpleis \nhttps://vhs-siebengebirge.de \nE-Mail: kontakt@vhs-siebengebirge.de\nTel.: 0 22 44 / 889-207
URL:https://www.stadtjournal.online/event/mehr-harmonie-in-beziehungen/
LOCATION:Mosaik\, Boserother Str. 74\, Königswinter\, 53639
ATTACH;FMTTYPE=image/jpeg:https://www.stadtjournal.online/wp-content/uploads/2025/09/strichmaennchen_dag.jpg
END:VEVENT
BEGIN:VEVENT
DTSTART;TZID=Europe/Berlin:20260421T190000
DTEND;TZID=Europe/Berlin:20260421T210000
DTSTAMP:20260421T173758
CREATED:20260309T122449Z
LAST-MODIFIED:20260309T122449Z
UID:17245-1776798000-1776805200@www.stadtjournal.online
SUMMARY:Ins Bewußtsein singen
DESCRIPTION:Bonn. Di\, 21. April 2026\, 19 Uhr \nGruppenklang zur Selbsterkenntnis \nStart der neuen Kursreihe\n21.4. / 5.5. / 19.5. / 2.6. / 16.6. / 30.6. / 14.7.2026\, jeweils 19–21 Uhr \nDeine singende und tönende Stimme ist ein Medium\, mit dem du dich und deine multidimensionale Natur entdecken und tief erfahren kannst.\nDein energetisches Sein schwingt beim Tönen spürbar mit. Im Handumdrehen bist du so mit dem Kosmos deiner Seele verbunden und verankerst ihn auf der Erde. \nWir nutzen den Gesang als Tor zu unserer individuellen Kraft und öffnen uns für die Magie zwischen den Welten. \nDu verfügst bereits über eine Stimme… und die weiß Bescheid! \nVoraussetzungen:\nDie Bereitschaft\, sich zu öffnen und berühren zu lassen / Die Bereitschaft\, im Hier und Jetzt zu sein\, mit all den Überraschungen\, die aufploppen / Keine Gesangserfahrung erforderlich. \nWerkzeuge:\nGesang und freies Tönen / Reflektion und Austausch / Zuhören / Besingen / Besungen werden / Stille / Raum für Nicht-Wissen / Lichtsprache \nWir arbeiten prozessorientiert. Innerhalb eines Zyklus ist die Gruppe geschlossen\, damit Vertrauen und Sicherheit im Ausdruck der Gemeinschaft wachsen können. \nVeranstalter: Melitta Bubalo\nVeranstaltungsort: Eutopia\, Thomas-Mann-Str. 36\, 53111 Bonn \nFoto: PR-Bild des Veranstalters
URL:https://www.stadtjournal.online/event/ins-bewusstsein-singen/
ATTACH;FMTTYPE=image/jpeg:https://www.stadtjournal.online/wp-content/uploads/2026/03/Keyvisual_Bewusstsein.jpg
END:VEVENT
END:VCALENDAR