BEGIN:VCALENDAR
VERSION:2.0
PRODID:-//stadtjournal.online - ECPv6.15.18//NONSGML v1.0//EN
CALSCALE:GREGORIAN
METHOD:PUBLISH
X-WR-CALNAME:stadtjournal.online
X-ORIGINAL-URL:https://www.stadtjournal.online
X-WR-CALDESC:Veranstaltungen für stadtjournal.online
REFRESH-INTERVAL;VALUE=DURATION:PT1H
X-Robots-Tag:noindex
X-PUBLISHED-TTL:PT1H
BEGIN:VTIMEZONE
TZID:Europe/Berlin
BEGIN:DAYLIGHT
TZOFFSETFROM:+0100
TZOFFSETTO:+0200
TZNAME:CEST
DTSTART:20250330T010000
END:DAYLIGHT
BEGIN:STANDARD
TZOFFSETFROM:+0200
TZOFFSETTO:+0100
TZNAME:CET
DTSTART:20251026T010000
END:STANDARD
BEGIN:DAYLIGHT
TZOFFSETFROM:+0100
TZOFFSETTO:+0200
TZNAME:CEST
DTSTART:20260329T010000
END:DAYLIGHT
BEGIN:STANDARD
TZOFFSETFROM:+0200
TZOFFSETTO:+0100
TZNAME:CET
DTSTART:20261025T010000
END:STANDARD
BEGIN:DAYLIGHT
TZOFFSETFROM:+0100
TZOFFSETTO:+0200
TZNAME:CEST
DTSTART:20270328T010000
END:DAYLIGHT
BEGIN:STANDARD
TZOFFSETFROM:+0200
TZOFFSETTO:+0100
TZNAME:CET
DTSTART:20271031T010000
END:STANDARD
END:VTIMEZONE
BEGIN:VEVENT
DTSTART;VALUE=DATE:20260424
DTEND;VALUE=DATE:20260427
DTSTAMP:20260424T023804
CREATED:20260321T071536Z
LAST-MODIFIED:20260318T122334Z
UID:17357-1776988800-1777247999@www.stadtjournal.online
SUMMARY:Mittelalter-Spectaculum mit Hunnenlager
DESCRIPTION:Unkel. Fr\, 24. – So\, 26. April 2026 \nFr\, ab 17 Uhr: Bauchtanz-\, Schwertkampfshow\, Unkeler Hunnen\, Feuershow\nSa\, ab 13 Uhr: an Attilas Tafel\, Ponyreiten\, Kampfshow\, Bauchtanz\, 17 Uhr Keltische Hochzeit\, 19 Uhr Hunnisch-Schamanische Hochzeit\, Großes Feuerspektakel \nSo: 11 Uhr Feldmesse\, 12-13 Uhr Frühshoppen\, Bauchtanzdarbeitung und befreundete Horden an der Fürstentafel \nBürgerpark Unkel\, Linzer Str. 25 (ehemaliges Freibadgelände) \nFoto: © Yacine #542047363\, stock.adobe.com
URL:https://www.stadtjournal.online/event/mittelalter-spectaculum-mit-hunnenlager/
ATTACH;FMTTYPE=image/jpeg:https://www.stadtjournal.online/wp-content/uploads/2024/03/Hunnen-Lager-Linz-YacineAdobeStock_542047363.jpg
END:VEVENT
BEGIN:VEVENT
DTSTART;TZID=Europe/Berlin:20260424T160000
DTEND;TZID=Europe/Berlin:20260424T220000
DTSTAMP:20260424T023804
CREATED:20260321T073626Z
LAST-MODIFIED:20260318T140512Z
UID:3494-1777046400-1777068000@www.stadtjournal.online
SUMMARY:Schlemmerabend
DESCRIPTION:Bad Honnef. Fr\, 24. April 2026\, 16.00 – 22.00 Uhr \nAn jedem letzten Freitag im Monat verwandelt sich die Innenstadt in ein kleines Food-Festival. Neben den Bad Honnefer Gastronomen wird das Angebot durch diverse kleine Imbissstände mit vielen Köstlichkeiten ergänzt. Sitzmöglichkeiten und Getränkestände laden zum Verweilen ein. \nFoto: © puhhha #190008102\, stock.adobe.com
URL:https://www.stadtjournal.online/event/schlemmerabend-2/
ATTACH;FMTTYPE=image/jpeg:https://www.stadtjournal.online/wp-content/uploads/2023/03/menschen-wein-feier-streetfood-AdobeStock_190008102.jpg
END:VEVENT
BEGIN:VEVENT
DTSTART;TZID=Europe/Berlin:20260424T190000
DTEND;TZID=Europe/Berlin:20260424T210000
DTSTAMP:20260424T023804
CREATED:20260321T121929Z
LAST-MODIFIED:20260321T121929Z
UID:17571-1777057200-1777064400@www.stadtjournal.online
SUMMARY:Piadolla – Klaus der Geiger & Marius Peters
DESCRIPTION:Oberdollendorf. Fr\, 24. April 2026\, 19 – 21 Uhr \nEiner der bekanntesten Straßenmusiker Deutschlands\, für sein Lebenswerk längst schon geehrt\, trifft auf einen mit bereits zahlreichen Preisen ausgezeichneten Gitarrist der Kölner Musikszene. Seit Jahren touren beide zusammen durch ganz Deutschland und spielen auf den großen Bühnen. Jedes Konzert ist ein besonderes und einzigartiges Erlebnis. Mal begleitet der eine mit seiner Gitarre\, mal der andere mit der Geige – dabei entstehen rasante Improvisationen\, weitschwingende Melodiebögen\, intime Balladen und immer wieder überraschende Klänge. Vor allem haben beide sich auf die Musik von Astor Piazzolla und Niccolò Paganini spezialisiert.\nGemeinsam ist beiden zudem die akademische Ausbildung im Bereich Klassik und Jazz. Ihr kammermusikalisches Projekt mit Geige & Gitarre ist ein gutes Beispiel dafür\, dass gerade Musik generationsübergreifend bestens funktioniert. \nPreis pro Person: 39 € inkl. einem Glas Wein/Sekt und Imbiss\nSitz- und Stehplätze\, Einlass 18.30 Uhr \nNur mit Anmeldung per Mail an: kay@kay-weine.de \nVinothek\, Heisterbacher Str. 89\, Oberdollendorf \nAbb.: Klaus der Geiger & Marius Peters\, Piadolla\, Westpark Music 87314\, EAN 4015698004144
URL:https://www.stadtjournal.online/event/piadolla-klaus-der-geiger-marius-peters/
ATTACH;FMTTYPE=image/jpeg:https://www.stadtjournal.online/wp-content/uploads/2024/11/Klaus-der-Geiger-und-Marius-Peters.jpg
END:VEVENT
BEGIN:VEVENT
DTSTART;TZID=Europe/Berlin:20260424T193000
DTEND;TZID=Europe/Berlin:20260424T193000
DTSTAMP:20260424T023804
CREATED:20260420T105233Z
LAST-MODIFIED:20260420T105233Z
UID:17996-1777059000-1777059000@www.stadtjournal.online
SUMMARY:Literarisches Ping-Pong
DESCRIPTION:Bad Honnef. Fr\, 24. April 2026\, 19.30 Uhr \nKulturveranstaltung auf der „Bühne 38”. Pieke & Fein\, Hauptstr. 38c \nDas Lese-Match mit David Jacobs und René Klammer Auf der „Bühne 38“ lassen am 24. April 2026 René Klammer und David Jacobs ihre selbst verfassten Kurzgeschichten und Romanauszüge gegeneinander antreten. Dabei lassen die beiden kein Genre aus. Sie bringen gleichermaßen spannende wie nachdenkliche Texte zu Gehör. Dabei beschränken sie sich nicht auf das Vortragen ihrer Texte\, sondern befragen einander auch über die Tücken des Schreibens\, die Entstehung ihrer Geschichten. Jeder der beiden geht mit zehn Geschichten und zehn Fragen an den Start. Zu den Regeln gehört\, dass sie nicht wissen\, welche Texte der jeweils andere dabeihat. Aufschlag René Klammer. \nPieke & Fein; „Bühne 38“\nHauptstr. 38c; 53604 Bad Honnef\nPieke & Fein; Christina Wachendorff\n12 Euro (im Vorverkauf im Laden und an der Abendkasse) Tel.: 01516 – 1104 7607\npieke@piekefein.de\nwww.piekefein.de \nFoto: PR-Bild des Veranstalters
URL:https://www.stadtjournal.online/event/literarisches-ping-pong/
ATTACH;FMTTYPE=image/jpeg:https://www.stadtjournal.online/wp-content/uploads/2026/04/Foto_Literarisches-Ping-Pong_1.jpg
END:VEVENT
BEGIN:VEVENT
DTSTART;TZID=Europe/Berlin:20260424T193000
DTEND;TZID=Europe/Berlin:20260424T213000
DTSTAMP:20260424T023804
CREATED:20250816T065636Z
LAST-MODIFIED:20260309T105522Z
UID:14509-1777059000-1777066200@www.stadtjournal.online
SUMMARY:Lesung: Das Kind – Geschichten von früher
DESCRIPTION:Rhöndorf. Fr\, 24. April 2026\, 19.30 – ca. 21.30 Uhr \nMarianne Troll aus Bruchhausen liest aus ihrem Buch „Das Kind – Geschichten von früher” auf Einladung der Bücherei St. Marien Rhöndorf.\nDiese Geschichten beleuchten eine zeittypische deutsche Familie der Nachkriegszeit\, aber auch die Gesellschaft zwischen 1956 und 1964 im Spannungsfeld zwischen unheilvoller Vergangenheit und vielversprechendem Aufbruch. Im Anschluß an die Lesung gibt es Gelegenheit zum Gespräch mit der Autorin. \nVeranstalter:\nBücherei St. Marien Rhöndorf \nVeranstaltungsort:\nPfarrsaal St. Marien Rhöndorf\, Frankenweg 127
URL:https://www.stadtjournal.online/event/lesung-das-kind-geschichten-von-frueher/
LOCATION:Pfarrsaal St. Marien Rhöndorf\, Frankenweg 127\, Bad Honnef\, Bundesstaat wählen:\, 53604\, Germany
ATTACH;FMTTYPE=image/jpeg:https://www.stadtjournal.online/wp-content/uploads/2023/10/buch-1_dag.jpg
END:VEVENT
BEGIN:VEVENT
DTSTART;TZID=Europe/Berlin:20260424T203000
DTEND;TZID=Europe/Berlin:20260424T203000
DTSTAMP:20260424T023804
CREATED:20260304T092532Z
LAST-MODIFIED:20260304T092532Z
UID:17210-1777062600-1777062600@www.stadtjournal.online
SUMMARY:Konzert im Zeughaus
DESCRIPTION:Bad Honnef. Fr\, 24. April 2026\, 20.30 Uhr\, Einlass ab 19.30 Uhr \n„Villwock Brothers & Sons of other Mothers“\nDie fünf „Villwock Brothers & Sons of other Mothers“ spielen besten Acoustic-Folk und Bluegrass auf Gitarre\, Mandoline\, Fiddle\, Banjo und Bass. Ihre Songs erzählen in schicken Soli und feinstem mehrstimmigen Gesang von den Umwegen des Lebens und des Herzens. Eintritt frei – Hutsammlung! \nZeughaus der KG Löstige Geselle\, Bergstr. 21\, Bad Honnef \nFoto: PR-Bild des Veranstalters
URL:https://www.stadtjournal.online/event/konzert-im-zeughaus-5/
LOCATION:Zeughaus Kleinkunstkeller\, Bergstr. 21\, Bad Honnef\, 53604
ATTACH;FMTTYPE=image/jpeg:https://www.stadtjournal.online/wp-content/uploads/2023/01/Villwock-Brothers-Sons-of-other-Mothers.jpg
END:VEVENT
END:VCALENDAR