BEGIN:VCALENDAR
VERSION:2.0
PRODID:-//stadtjournal.online - ECPv6.15.18//NONSGML v1.0//EN
CALSCALE:GREGORIAN
METHOD:PUBLISH
X-WR-CALNAME:stadtjournal.online
X-ORIGINAL-URL:https://www.stadtjournal.online
X-WR-CALDESC:Veranstaltungen für stadtjournal.online
REFRESH-INTERVAL;VALUE=DURATION:PT1H
X-Robots-Tag:noindex
X-PUBLISHED-TTL:PT1H
BEGIN:VTIMEZONE
TZID:Europe/Berlin
BEGIN:DAYLIGHT
TZOFFSETFROM:+0100
TZOFFSETTO:+0200
TZNAME:CEST
DTSTART:20250330T010000
END:DAYLIGHT
BEGIN:STANDARD
TZOFFSETFROM:+0200
TZOFFSETTO:+0100
TZNAME:CET
DTSTART:20251026T010000
END:STANDARD
BEGIN:DAYLIGHT
TZOFFSETFROM:+0100
TZOFFSETTO:+0200
TZNAME:CEST
DTSTART:20260329T010000
END:DAYLIGHT
BEGIN:STANDARD
TZOFFSETFROM:+0200
TZOFFSETTO:+0100
TZNAME:CET
DTSTART:20261025T010000
END:STANDARD
BEGIN:DAYLIGHT
TZOFFSETFROM:+0100
TZOFFSETTO:+0200
TZNAME:CEST
DTSTART:20270328T010000
END:DAYLIGHT
BEGIN:STANDARD
TZOFFSETFROM:+0200
TZOFFSETTO:+0100
TZNAME:CET
DTSTART:20271031T010000
END:STANDARD
END:VTIMEZONE
BEGIN:VEVENT
DTSTART;VALUE=DATE:20260424
DTEND;VALUE=DATE:20260427
DTSTAMP:20260425T014319
CREATED:20260321T071536Z
LAST-MODIFIED:20260318T122334Z
UID:17357-1776988800-1777247999@www.stadtjournal.online
SUMMARY:Mittelalter-Spectaculum mit Hunnenlager
DESCRIPTION:Unkel. Fr\, 24. – So\, 26. April 2026 \nFr\, ab 17 Uhr: Bauchtanz-\, Schwertkampfshow\, Unkeler Hunnen\, Feuershow\nSa\, ab 13 Uhr: an Attilas Tafel\, Ponyreiten\, Kampfshow\, Bauchtanz\, 17 Uhr Keltische Hochzeit\, 19 Uhr Hunnisch-Schamanische Hochzeit\, Großes Feuerspektakel \nSo: 11 Uhr Feldmesse\, 12-13 Uhr Frühshoppen\, Bauchtanzdarbeitung und befreundete Horden an der Fürstentafel \nBürgerpark Unkel\, Linzer Str. 25 (ehemaliges Freibadgelände) \nFoto: © Yacine #542047363\, stock.adobe.com
URL:https://www.stadtjournal.online/event/mittelalter-spectaculum-mit-hunnenlager/
ATTACH;FMTTYPE=image/jpeg:https://www.stadtjournal.online/wp-content/uploads/2024/03/Hunnen-Lager-Linz-YacineAdobeStock_542047363.jpg
END:VEVENT
BEGIN:VEVENT
DTSTART;TZID=Europe/Berlin:20260425T100000
DTEND;TZID=Europe/Berlin:20260425T100000
DTSTAMP:20260425T014319
CREATED:20260321T072240Z
LAST-MODIFIED:20260319T135920Z
UID:7876-1777111200-1777111200@www.stadtjournal.online
SUMMARY:Geboren aus Vulkanen: Das Siebengebirge
DESCRIPTION:Oberdollendorf. Sa\, 25. April 2026\, 10.00 – ca. 15.00 Uhr \nSeine Gesteine und Weinberge \nEine ganz wunderbare GeoExkursion\, in der wir uns auch in erfreulicher Hinsicht mit der Geologie des Weinanbaus beschäftigen. Wir wandern auf dem Weinwanderweg des Weinguts Blöser durch die Weinberge von Oberdollendorf\, genießen wunderbare Aussichten über das Rheintal. Durch den Wald führt uns der Rheinsteig zum Weilberg\, einem der faszinierendesten Vulkane des Siebengebirges\, hier befassen wir uns ausführlich mit dem Vulkanismus und der geologischen Entstehung des Siebengebirges. Nur kurz ist es von dort bis zum Kloster Heisterbach\, in der Klosterlandschaft um die Chorruine begegnen wir der Geschichte der Zisterzienser Mönche\, die von Heisterbach aus das Siebengebirge von der Wildnis zur Kulturlandschaft verwandelt haben. Wir verweilen ein bißchen\, weil es so idyllisch ist\, danach führt der Weg durch das Mühlental zurück nach Oberdollendorf. Die Exkursion endet am Weinhaus Gut Sülz\, wo es sich im traumhaft schönen Garten unter den Weinbergen herrlich sitzen und den Wein verkosten läßt. \nTreffpunkt: am Brückenhofmuseum in Oberdollendorf\, Bachstraße 93\, 53639 Königswinter-Oberdollendorf\nÖPNV: Regionalbahn bis Königswinter-Oberdollendorf\, von dort 10 Minuten zu Fuß\nDa diese Exkursion ein vinologisches Ende finden kann\, ist die Anreise mit ÖPNV empfohlen. \nTeilnehmerbeitrag: 30 EUR\nInfos und Tickets online bei Grenzgang
URL:https://www.stadtjournal.online/event/geboren-aus-vulkanen-das-siebengebirge/
ATTACH;FMTTYPE=image/jpeg:https://www.stadtjournal.online/wp-content/uploads/2022/11/kloster-heisterbach_dag.jpg
END:VEVENT
BEGIN:VEVENT
DTSTART;TZID=Europe/Berlin:20260425T100000
DTEND;TZID=Europe/Berlin:20260425T120000
DTSTAMP:20260425T014319
CREATED:20251208T162354Z
LAST-MODIFIED:20260311T123234Z
UID:16196-1777111200-1777118400@www.stadtjournal.online
SUMMARY:Gottesdienste der Freikirche der STA
DESCRIPTION:Bad Honnef. Sa\, 25. April 2026\, 10:00 – 12:00 Uhr \nDie Freikriche der Freikirche der Siebenten-Tags-Adventisten in Bad Honnef lädt herzlich ein zum Gottesdienst am Samstag Morgen.\nDer Gottesdienst besteht aus zwei Teilen:\n10:00 Uhr – gemeinsamer Austausch zu biblischen Themen in Gesprächsgruppen\n11:00 Uhr – Predigt\nMehr Informationen und Kontakt unter: https://bad-honnef.adventgemeinde.de \nGemeindehaus der STA\, An St. Göddert 3\, 53604 Bad Honnef \nFoto: © congerdesign auf Pixabay
URL:https://www.stadtjournal.online/event/gottesdienste-der-freikirche-der-sta-4/
ATTACH;FMTTYPE=image/jpeg:https://www.stadtjournal.online/wp-content/uploads/2025/12/jesus-christ_congerdesign_Pixabay.jpg
END:VEVENT
BEGIN:VEVENT
DTSTART;TZID=Europe/Berlin:20260425T100000
DTEND;TZID=Europe/Berlin:20260425T160000
DTSTAMP:20260425T014319
CREATED:20241019T080301Z
LAST-MODIFIED:20260321T104352Z
UID:10972-1777111200-1777132800@www.stadtjournal.online
SUMMARY:Tag der offenen Tür in der Sieg Reha
DESCRIPTION:Hennef. Sa\, 25. April 2026\, 10–16 Uhr \nDer Tag der offenen Tür richtet sich an Schülerinnen und Schüler\, Studieninteressierte\, Gesundheitsinteressierte sowie alle\, die mehr über Therapie\, Prävention und berufliche Möglichkeiten im Gesundheitsbereich erfahren möchten. Im Fokus steht die Berufsfachschule für Physiotherapie und Ergotherapie\, die Interessierten umfassende Einblicke in Ausbildung und Studium bietet (Dickstr. 59). \nRenommierte Ärztinnen und Ärzte sprechen unter anderem über moderne Bypass-Chirurgie\, den optimalen Zeitpunkt für ein künstliches Gelenk\, Lebensstiländerungen nach einem Schlaganfall sowie aktuelle Entwicklungen in Diagnostik und Therapie von Brustkrebs. Auch praktische Einblicke in moderne Therapie fehlen nicht. (Mittelstr. 49–51) \nSieg Reha in Hennef\, Mittelstr. 49–51 und Dickstr. 59 \nFoto: Racle Fotodesign #112205017\, stock.adobe.com
URL:https://www.stadtjournal.online/event/tag-der-offenen-tuer-in-der-sieg-reha/
LOCATION:Sieg Reha\, Mittelstraße 49-51\, Hennef\, 53773
ATTACH;FMTTYPE=image/jpeg:https://www.stadtjournal.online/wp-content/uploads/2024/10/ergotherapie-physio-gesundheit-senior-gym-Racle-FotodesignAdobeStock_112205017.jpg
END:VEVENT
BEGIN:VEVENT
DTSTART;TZID=Europe/Berlin:20260425T100000
DTEND;TZID=Europe/Berlin:20260425T200000
DTSTAMP:20260425T014319
CREATED:20260321T072659Z
LAST-MODIFIED:20260319T103531Z
UID:17391-1777111200-1777147200@www.stadtjournal.online
SUMMARY:523-Minuten-Schwimmen
DESCRIPTION:Beuel. Sa\, 25. April 2026\, 9.00 Uhr – 20.15 Uhr \nAm Samstag\, 25. April 2026\, findet in der Beueler Bütt das 532-Minuten-Schwimmen statt. Von 10:00 bis 18:52 Uhr hast du Zeit\, in 532 Minuten so viele Bahnen wie möglich zu schwimmen – Pausen sind jederzeit erlaubt. \nMitmachen kann jede:r\, der mindestens 50 Meter am Stück schwimmen kann. Eine DLRG-Mitgliedschaft ist nicht erforderlich. Geschwommen wird auf Bahnen mit unterschiedlichen Geschwindigkeiten. \nDie Startgebühr beträgt 10 € pro Person\, teilnehmen können Einzelpersonen oder Gruppen bis zu fünf Personen. Die besten Teilnehmenden erhalten Medaillen und Urkunden.\nAnmeldung bis 18. April 2026\, Minderjährige nur mit Einverständniserklärung. Getränke und Snacks sind vor Ort erhältlich. \nAnmeldung: https://bonn.dlrg.de/kurse-und-angebote/532-minuten-schwimmen/ \nBeueler Bütt\nGoetheallee 29–35\n53225 Bonn
URL:https://www.stadtjournal.online/event/523-minuten-schwimmen/
LOCATION:Beueler Bütt\, Goetheallee 29–35\, Bonn\, 53225
ATTACH;FMTTYPE=image/jpeg:https://www.stadtjournal.online/wp-content/uploads/2026/03/532-Min-Schwimmen2026.jpg
END:VEVENT
BEGIN:VEVENT
DTSTART;TZID=Europe/Berlin:20260425T143000
DTEND;TZID=Europe/Berlin:20260425T163000
DTSTAMP:20260425T014319
CREATED:20260321T070551Z
LAST-MODIFIED:20260320T131933Z
UID:17496-1777127400-1777134600@www.stadtjournal.online
SUMMARY:Kunst-Wanderung auf dem Skulpturenweg Much
DESCRIPTION:Much. Sa\, 25. April 2026\, 14.30 – 16.30 Uhr \nDie kleine Gemeinde im Bergischen präsentiert sich mit schmucken Fachwerkhäusern\, zauberhafter Natur und der stolzen Burg Overbach. Der Skulpturenweg ist ein Erlebnisgang durch die Mucher Ortsgeschichte mit zum jeweiligen Standort passenden Kunstwerken\, entstanden durch eine Initiative des Verkehrsvereins Much. \nAuf dem ca. 2 km langen Weg vom Rathaus über den Walkweiher zur Burg und auf den Kirchplatz begegnet man neun Skulpturen zum Thema „Sieben Sinne“ von Kunstschaffenden aus der Region. Seit Kurzem bereichert eine neue Stahlskulptur des renommierten Künstlers Thomas Röthel das Ensemble. Die zeitgenössischen Kunstobjekte bilden einen reizvollen Kontrast zu den historischen Gebäuden und laden zum „Begreifen“ ein. \nDer Architekt\, Stadtplaner und Ortskundige Peter Urban Berger hat die Entstehung des Skulpturenwegs begleitet und kann alles über seine Geschichte und die Hintergründe der einzelnen Kunstwerke berichten. \nBitte beachten: Tragen Sie festes Schuhwerk und ggf. wetterfeste Kleidung. Der Spaziergang findet auch bei leichtem Regen statt. \n9\,30 EUR\nTreffpunkt Rathaus; Hauptstraße 57 \nwww.vhs-rhein-sieg.de\, Tel.: 0 22 41 / 30 97-0. Kurs-Nr. 261-20320 \nFoto: Prospekt\, Verkehrsverein Much e.V.\, Hauptstr. 57\, 53804 Much\, Tel.: 02245/610888 
URL:https://www.stadtjournal.online/event/kunst-wanderung-auf-dem-skulpturenweg-much/
ATTACH;FMTTYPE=image/jpeg:https://www.stadtjournal.online/wp-content/uploads/2026/03/skulpturen-weg_much-prospekt.jpg
END:VEVENT
BEGIN:VEVENT
DTSTART;TZID=Europe/Berlin:20260425T153000
DTEND;TZID=Europe/Berlin:20260425T153000
DTSTAMP:20260425T014319
CREATED:20260217T171652Z
LAST-MODIFIED:20260217T171723Z
UID:17131-1777131000-1777131000@www.stadtjournal.online
SUMMARY:Konzert
DESCRIPTION:Bonn. Sa\, 25. April 2026\, 15.30 Uhr \nWir freuen uns sehr\, wieder die beiden Musiker Georg Brinkmann (Klarinette) und Marc Jaquet (Klavier) begrüßen zu dürfen\, die bereits 2023 die Zuhörer hellauf begeisterten.\nSie erwartet ein Programm\, das die lyrische und erzählerische Kraft der Klarinette in den Mittelpunkt stellt: Die ausgewählten Werke von Smith\, Grandval\, Aubine und Horovitz verbinden melodische Eleganz mit kammermusikalischer Farbigkeit. Zwischen tänzerischen Passagen\, warmen Kantilenen und feinem Humor entfaltet sich ein Abend\, der die Klarinette als Stimme voller Charakter zeigt – getragen vom klangvollen Fundament des Klaviers. \nZugleich möchten wir mit Ihnen die Eröffnung unserer neuen Ausstellung von Otto von Kotzebue (1936 – 2022) feiern\, der nicht nur ein herausragender Künstler\, Architekt und Abenteurer\, sondern auch ein guter Freund war\, dessen Leben wir mit dieser Ausstellung ehren wollen. Lassen Sie uns gemeinsam eintauchen in die Impressionen eines Künstlers\, der die Seelen der beiden großen Nationen USA und Russland mit Fantasie\, Melancholie\, Kritik und Charme in den Vordergrund stellte. Ein Thema\, das niemals an Bedeutung zu verlieren scheint – gerade in diesen Zeiten. \nEintritt: 20\,- € \nFür die Sitzplatzreservierung und weitere Informationen klicken Sie bitte folgenden Link: https://musikstudio-paque.de/brinkmann-jaquet-2026/ \nim\nMusikstudio & Galerie: Gabriele Paqué\nBlücherstraße 14\n53115 Bonn \nmusikstudio-paque.de \nFotos: Sabine Büttner (l)\, Doreen Kühr (r)
URL:https://www.stadtjournal.online/event/konzert-2/
LOCATION:Musikstudio & Galerie: Gabriele Paqué\, Blücherstraße 14\, Bonn\, 53115
ATTACH;FMTTYPE=image/jpeg:https://www.stadtjournal.online/wp-content/uploads/2026/02/Brinkmann-und-Jaquet_Fotos-Sabine-Buettner-l-Doreen-Kuehr-r.jpg
END:VEVENT
BEGIN:VEVENT
DTSTART;TZID=Europe/Berlin:20260425T153000
DTEND;TZID=Europe/Berlin:20260425T153000
DTSTAMP:20260425T014319
CREATED:20260310T141619Z
LAST-MODIFIED:20260310T141619Z
UID:17264-1777131000-1777131000@www.stadtjournal.online
SUMMARY:Kaffee Kuchen Krankheiten der Seele
DESCRIPTION:Oberdollendorf. Sa\, 25. April 2026\, 15.30 Uhr \nLesung im Gut Sülz\nIn ihren Büchern geben die Psychiater Christian Jost „Therapie – Fenster zur Freiheit?“ und Hans Welsch „Die Angst des Psychiaters vor der Nähe“ persönliche Einblicke in ihr Berufsleben und in das Seelenleben von Betroffenen.\nEintritt ist frei\, 14\,50 € für Kaffee und Kuchen. Um Anmeldung per E-Mail wird gebeten an: info@psychotherapie-praxis-jost.de \nVeranstalter:\nWolfgang Bartels\, Freie Ärzteschaft \nVeranstaltungsort:\nGut Sülz\, Bachstr. 157 \nFoto: ©Wed #958556906\,stock.adobe.com
URL:https://www.stadtjournal.online/event/kaffee-kuchen-krankheiten-der-seele/
LOCATION:Weingut Sülz\, Bachstraße 157\, Königswinter\, Bundesstaat wählen:\, 53639\, Germany
ATTACH;FMTTYPE=image/jpeg:https://www.stadtjournal.online/wp-content/uploads/2025/09/mann-verzweiflung-depri-allein-mensch-WedAdobeStock_958556906.jpg
END:VEVENT
BEGIN:VEVENT
DTSTART;TZID=Europe/Berlin:20260425T170000
DTEND;TZID=Europe/Berlin:20260425T190000
DTSTAMP:20260425T014319
CREATED:20260321T073023Z
LAST-MODIFIED:20260319T133139Z
UID:17437-1777136400-1777143600@www.stadtjournal.online
SUMMARY:Mit dem Henker durch Siegburg
DESCRIPTION:Siegburg. Sa\, 25. April 2026\, 17.00 – 19.00 Uhr \nErleben Sie die Stadt bei dem Rundgang für „durchreisende Pilger und Händler“ von ihrer dunklen Seite. Erfahren Sie Kurioses und Hochinteressantes über das Rechtssystem des Mittelalters und lassen Sie sich (nur) so auf die Folter spannen. Der 30 jährige Krieg ist vorbei. Not und Elend allenthalben. Begleite „Meister Hans“ auf seinem Weg durch die Stadt im Jahr 1660 und lasse Dir seinen (Über-)Lebenskampf als Scharfrichter mit wichtigen Zusatzaufgaben und -einkünften vor Ort schildern. Wie lebt er mit seiner Familie in der ihm zugeschriebenen „Unehrenhaftigkeit“? Wie ist seine Mitwirkung im Justizsystem der damaligen Zeit\, in der er nach der vom Gericht angeordneten Folter die Delinquenten anschließend sogar medizinisch so behandelte\, dass sie für die Hinrichtung vorbereitet waren? Die Vollstreckung eines Todesurteils auf der außerhalb der Stadt liegenden Hinrichtungsstätte oder einer Körperstrafe am Pranger kannte viele Varianten. \nTreffpunkt: Eingang Stadtmuseum Siegburg\, Markt 46 \nAnmeldungen: Hans-Willi Kernenbach\, Tel.: 0173 / 3767087 oder dsjw.15@gmx.de \nEintritt: 6 € pro Person \nFoto: Baike auf Pixabay
URL:https://www.stadtjournal.online/event/mit-dem-henker-durch-siegburg-3/
ATTACH;FMTTYPE=image/jpeg:https://www.stadtjournal.online/wp-content/uploads/2025/12/pranger-mittelalter-Baike_Pixabay.jpg
END:VEVENT
BEGIN:VEVENT
DTSTART;TZID=Europe/Berlin:20260425T180000
DTEND;TZID=Europe/Berlin:20260425T210000
DTSTAMP:20260425T014319
CREATED:20260318T100515Z
LAST-MODIFIED:20260318T100524Z
UID:17347-1777140000-1777150800@www.stadtjournal.online
SUMMARY:Streetart meets Electronic Beats
DESCRIPTION:Linz a. Rhein. Sa\, 25. April 2026\, 18.00 – 21.00 Uhr \nAls Highlight wird im Rahmen der Ausstellung von Jörg Wagner im Kunstverein Linz am Rhein das Event „Streetart meets Electronic Beats“ stattfinden. Hierzu sind alle eingeladen\, die Lust haben\, in einem besonderen Ambiente\, umgeben von den Kunstwerken Jörg Wagners\, zu den von DJ Tamer aufgelegten Klängen zu tanzen oder zu chillen. \nDie Ausstellung von Jörg Wagner trägt den Titel „Crazy World“. Die faszinierende Welt der Street-Art-Kunst\, die in der Regel auf den Plätzen und an den Mauern und Gebäuden der Städte im öffentlichen Raum stattfindet\, wird durch die Bilder eingefangen und auf die Leinwand transportiert. \nDie Ausstellung kann bis zum Sonntag\, den 3.5.2026 zu den folgenden Öffnungszeiten besucht werden: Fr. 16 – 18 Uhr\, Sa. + So. 14 – 18 Uhr.  \nDie Finissage findet am Sonntag\, 03.05.2026 von 14 – 17 Uhr statt.  \nDer Künstler wird anwesend sein und für Gespräche zur Verfügung stehen. \nFoto: Collage\, © Jörg Wagner (Kunstwerk) und Tamer Jandali (Portrait)
URL:https://www.stadtjournal.online/event/streetart-meets-electronic-beats/
LOCATION:Kunstraum Markt9\, Marktplatz 9\, Linz am Rhein\, 53545
ATTACH;FMTTYPE=image/jpeg:https://www.stadtjournal.online/wp-content/uploads/2026/03/Streetart_meets_Electronic_Beats.jpg
END:VEVENT
END:VCALENDAR