BEGIN:VCALENDAR
VERSION:2.0
PRODID:-//stadtjournal.online - ECPv6.15.18//NONSGML v1.0//EN
CALSCALE:GREGORIAN
METHOD:PUBLISH
X-WR-CALNAME:stadtjournal.online
X-ORIGINAL-URL:https://www.stadtjournal.online
X-WR-CALDESC:Veranstaltungen für stadtjournal.online
REFRESH-INTERVAL;VALUE=DURATION:PT1H
X-Robots-Tag:noindex
X-PUBLISHED-TTL:PT1H
BEGIN:VTIMEZONE
TZID:Europe/Berlin
BEGIN:DAYLIGHT
TZOFFSETFROM:+0100
TZOFFSETTO:+0200
TZNAME:CEST
DTSTART:20250330T010000
END:DAYLIGHT
BEGIN:STANDARD
TZOFFSETFROM:+0200
TZOFFSETTO:+0100
TZNAME:CET
DTSTART:20251026T010000
END:STANDARD
BEGIN:DAYLIGHT
TZOFFSETFROM:+0100
TZOFFSETTO:+0200
TZNAME:CEST
DTSTART:20260329T010000
END:DAYLIGHT
BEGIN:STANDARD
TZOFFSETFROM:+0200
TZOFFSETTO:+0100
TZNAME:CET
DTSTART:20261025T010000
END:STANDARD
BEGIN:DAYLIGHT
TZOFFSETFROM:+0100
TZOFFSETTO:+0200
TZNAME:CEST
DTSTART:20270328T010000
END:DAYLIGHT
BEGIN:STANDARD
TZOFFSETFROM:+0200
TZOFFSETTO:+0100
TZNAME:CET
DTSTART:20271031T010000
END:STANDARD
END:VTIMEZONE
BEGIN:VEVENT
DTSTART;VALUE=DATE:20260424
DTEND;VALUE=DATE:20260427
DTSTAMP:20260426T013404
CREATED:20260321T071536Z
LAST-MODIFIED:20260318T122334Z
UID:17357-1776988800-1777247999@www.stadtjournal.online
SUMMARY:Mittelalter-Spectaculum mit Hunnenlager
DESCRIPTION:Unkel. Fr\, 24. – So\, 26. April 2026 \nFr\, ab 17 Uhr: Bauchtanz-\, Schwertkampfshow\, Unkeler Hunnen\, Feuershow\nSa\, ab 13 Uhr: an Attilas Tafel\, Ponyreiten\, Kampfshow\, Bauchtanz\, 17 Uhr Keltische Hochzeit\, 19 Uhr Hunnisch-Schamanische Hochzeit\, Großes Feuerspektakel \nSo: 11 Uhr Feldmesse\, 12-13 Uhr Frühshoppen\, Bauchtanzdarbeitung und befreundete Horden an der Fürstentafel \nBürgerpark Unkel\, Linzer Str. 25 (ehemaliges Freibadgelände) \nFoto: © Yacine #542047363\, stock.adobe.com
URL:https://www.stadtjournal.online/event/mittelalter-spectaculum-mit-hunnenlager/
ATTACH;FMTTYPE=image/jpeg:https://www.stadtjournal.online/wp-content/uploads/2024/03/Hunnen-Lager-Linz-YacineAdobeStock_542047363.jpg
END:VEVENT
BEGIN:VEVENT
DTSTART;VALUE=DATE:20260426
DTEND;VALUE=DATE:20260427
DTSTAMP:20260426T013404
CREATED:20260321T124757Z
LAST-MODIFIED:20260321T124757Z
UID:17577-1777161600-1777247999@www.stadtjournal.online
SUMMARY:Von Bachem entlang der Ahr hinauf zum Steckenberg
DESCRIPTION:Linz am Rhein/Bad Neuenahr-Ahrweiler. So\, 26. April 2026 \nDer Eifelverein Ortsgruppe Linz e.V. lädt am Sonntag\, den 26. April 2026 zu einer Tageswanderung von Bachem entlang der Ahr hinauf zum Steckenberg recht herzlich ein. \nWillst du dich heute einfach ein wenig selbst verwöhnen? Dann bist du auf dieser Tour genau richtig. Fernblick auf Ahrweiler und Kloster Calvarienberg bis zum Kölner Dom\, der Weinort Bachem und ein Kurpark in malerischer Landschaft. Klingt nach Genuss.\nDu wanderst entlang von Wiesen\, Bäumen und des Bachemer Bachs. Weinberge auf dem AhrSteig\, Grill- und Picknickplätze sowie schließlich die sind allesamt Einladungen\, es dir gut gehen zu lassen. \nWanderstrecke: ca. 14 km\nSchwierigkeitsgrad: mittel\nAufstieg: ↑ 350 hm / Abstieg: ↓ 350 hm \nTreffpunkt: Martinusstraße (Parkplatz Ecke Gymnasium) 53545 Linz m Rhein\noder\nBergstraße 12\, City-Ost (Mosesparkplatz) 53474 Bad Neuenahr-Ahrweiler (Bitte beim Wanderführer melden) \n(Uhrzeit wird noch bekannt gegeben) \nIn PKW-Fahrgemeinschaft fahren wir zum Ausgangspunkt unserer Wanderung\nFür die Fahrtkosten bitte Kleingeld mitbringen.\nFür die Heimfahrt an saubere Schuhe / Schuhüberzug denken! \nRucksackverpflegung sowie ausreichend Getränke sollten dabei sein.\nFestes Schuhwerk sowie eine den Witterungsverhältnissen angepasste Kleidung ist erbeten. \nEine Schlussrast ist am Ende der Wanderung geplant \nGäste sind zu unseren Wanderungen jederzeit herzlich willkommen.\nFür die Gastwanderung erheben wir eine Spende von 2 EUR \nWanderführung: Herbert Entschladen\nInformationen zur Wanderung unter Tel.: 0 26 83 / 49 20 \nFoto: Thomas B auf Pixabay
URL:https://www.stadtjournal.online/event/von-bachem-entlang-der-ahr-hinauf-zum-steckenberg/
ATTACH;FMTTYPE=image/jpeg:https://www.stadtjournal.online/wp-content/uploads/2023/03/ahrweiler-Thomas-B-auf-Pixabay.jpg
END:VEVENT
BEGIN:VEVENT
DTSTART;TZID=Europe/Berlin:20260426T100000
DTEND;TZID=Europe/Berlin:20260426T100000
DTSTAMP:20260426T013404
CREATED:20260309T112323Z
LAST-MODIFIED:20260323T120414Z
UID:17242-1777197600-1777197600@www.stadtjournal.online
SUMMARY:Schöne Aussichten! Von Bad Hönningen zum Malberg
DESCRIPTION:Bad Hönningen. So\, 26. April 2026\, 10.00 Uhr \nEinladung zu einer ausgedehnten\, frühlingshaften Wanderung in moderatem Tempo! Gemeinsam genießen wir den Weg hinauf zum vulkanischen Malberg. Oben erwarten uns als besondere Höhepunkte das Gipfelkreuz (373 m) und – bei Öffnung – die gemütliche Malberghütte zur Einkehr. Unterwegs entdecken wir römische Spuren\, folgen ein Stück dem WesterwaldSteig und lassen uns von herrlichen Panoramablicken ins Wiedtal und ins Rheintal verzaubern. Nicht vergessen: Getränk & Imbiss für unterwegs\, Sonnen-/Regenschutz und festes Schuhwerk. Veranstalter ist der Naturpark Rhein/Westerwald. Teilnehmerbeitrag: 5\,00 €.\nLeitung: Danielle Wiesner-von den Driesch\, DWV-Wanderführerin®\nAnmeldung: info@bonn-und-siebengebirge-entdecken.de\nStart/Ziel: 53557 Bad Hönningen.\nGehzeit: 15 km · ca. 4 Stunden ·  370 hm.\nTreffpunkt: Ecke Hönninger Straße/Zum Kronenborn (Parkplatz)\, 53577 Bad Hönningen. \nFoto: © Danielle Wiesner-von den Driesch
URL:https://www.stadtjournal.online/event/schoene-aussichten-von-bad-hoenningen-zum-malberg/
ATTACH;FMTTYPE=image/jpeg:https://www.stadtjournal.online/wp-content/uploads/2026/03/wander-danielle-wiesner-von-den-driesch.jpg
END:VEVENT
BEGIN:VEVENT
DTSTART;TZID=Europe/Berlin:20260426T100000
DTEND;TZID=Europe/Berlin:20260426T130000
DTSTAMP:20260426T013404
CREATED:20260321T073348Z
LAST-MODIFIED:20260317T115026Z
UID:17325-1777197600-1777208400@www.stadtjournal.online
SUMMARY:Das Herz des Siebengebirges
DESCRIPTION:Margarethenhöhe. Sa\, 26. April 2026\, 10.00 – 13.00 Uhr \nGeführte Wanderung auf schmalen Pfaden durch die Wildnis der Breiberge. Der Wald hat sich in diesem Bereich durch den bewussten Verzicht auf Forstwirtschaft in den letzten Jahren besonders stark verändert; ganz ohne Einfluss des Borkenkäfers. Außerdem geht es um besondere Bäume und seltene Waldgesellschaften. \nDie Wanderung bietet als zusätzliche Highlights immer wieder grandiose Ausblicke\, so u. a. vom „Drei-Seen-Blick“ und von Süden auf den Drachenfels und die Wolkenburg. Eine Möglichkeit zur Rast bietet sich in der schönsten Schutzhütte des Siebengebirges. \nLeitung: Marc Redemann\, Förster für den VVS-Wald \nTrittsicherheit erforderlich! Selbstverpflegung! \nInfos/Anmeldung: Tel.: 0 22 23 / 90 94 94 oder poststelle@vv-siebengebirge.de \nForsthaus Lohrberg\, Löwenburger Straße 2 \nFoto: privat
URL:https://www.stadtjournal.online/event/das-herz-des-siebengebirges/
ATTACH;FMTTYPE=image/jpeg:https://www.stadtjournal.online/wp-content/uploads/2026/03/Wald-stellweg-juni_dag.jpg
END:VEVENT
BEGIN:VEVENT
DTSTART;TZID=Europe/Berlin:20260426T110000
DTEND;TZID=Europe/Berlin:20260426T110000
DTSTAMP:20260426T013404
CREATED:20250316T111110Z
LAST-MODIFIED:20260310T140443Z
UID:12828-1777201200-1777201200@www.stadtjournal.online
SUMMARY:Oberkasseler Matinée
DESCRIPTION:Oberkassel. So\, 26. April 2026\, 11.00 Uhr \nMit Ladislav Pazdera (gitarre) – Chiaroscuro \nDer weltweite Erfolg bekannter Großmeister der akustischen Gitarre\, allen voran Tommy\nEmmanuel\, beweist: auch die unverstärkte Gitarre kann viele Fans von Folk und Pop\,\nFlamenco und Neo-Klassik begeistern. Auch Ladislav Pazdera (*1989) hat sich ganz der\nAkustikgitarre verschrieben und gehört zu jener Generation von Musikerinnen und\nMusikern\, die ohne Genregrenzen aufgewachsen ist. Entsprechend verarbeitet er auf\nseinem kommenden Solo-Album „Chiaroscuro“ wie auch schon bei früheren Projekten\nstilistisch vielfältige Inspirationen zu sehr persönlichen\, berührenden und\nausdrucksstarken Stücken. Groß ist ihre Vielfalt an Klangfarben und Stimmungen\,\nbeeindruckend die Spanne zwischen fein ziselierten Passagen und dynamisch-rhythmischem Temperament. \nEintritt frei\, Spende erbeten. \nKulturzentrum Altes Rathaus Oberkassel\, Königswinterer Str. 720 \nFoto: PR-Bild des Veranstalters
URL:https://www.stadtjournal.online/event/oberkasseler-matinee-2/
LOCATION:Kulturzentrum Altes Rathaus Oberkassel\, Königswinterer Str. 720\, Bonn\, NRW\, 53227\, Deutschland
ATTACH;FMTTYPE=image/jpeg:https://www.stadtjournal.online/wp-content/uploads/2025/03/Ladislav-Pazdera-altes-rathaus-oberkassen-gitarre.jpg
END:VEVENT
BEGIN:VEVENT
DTSTART;TZID=Europe/Berlin:20260426T110000
DTEND;TZID=Europe/Berlin:20260426T110000
DTSTAMP:20260426T013404
CREATED:20260317T104929Z
LAST-MODIFIED:20260317T104929Z
UID:17311-1777201200-1777201200@www.stadtjournal.online
SUMMARY:Frühlingskonzert
DESCRIPTION:Königswinter. So\, 26. April 2026\, 11 Uhr \nSeit über 30 Jahren präsentiert die Junge Philharmonie Köln ihrem Publikum heitere und zugleich besinnliche Programme aus dem reichen Repertoire der populären Klassik. Unter ihrem Dach ist eine einzigartige Plattform entstanden\, die jungen Profis die immer seltener werdende Gelegenheit bietet\, über die Grenzen ihres Studiums und Berufslebens hinaus an außergewöhnlichen Konzert-Projekten teilzunehmen. Sie wird durch einen als gemeinnützig anerkannten Trägerverein geführt\, der die Mission des Orchesters als musikalischer Botschafter einer friedvollen Welt durch die Integration zahlreicher ausländischer\, in Deutschland lebender junger Künstler unterstützt. Wer sich auf ein Konzert der Jungen Philharmonie Köln einläßt\, weiß\, daß an diesem Tag die leichte Muse mit Schalk und Humor vom Chefdirigent Volker Hartung regiert. \nNeben Meisterwerken von Camille Saint-Saëns mit dem „Karneval der Tiere“und W. A. Mozart mit Ausschnitten aus seiner Oper „ Die Zauberflöte“ werden im Konzert auf dem weltberühmten Petersberg\, der ehemals guten Stube der Bundesrepblik- dem heutigen Steigenberger Icon Grandhotel & Spa – auch virtuose Leckerbissen durch die jungen Virtuosen des Orchesters erklingen. All dies als Vorspeise zu einem fabelhaften\, optional buchbaren Brunch der Küchenmeister/innen des Etablissements\, die im Anschluss des Konzerts mit einer erlesenen Auswahl an Weinen und Speisen zu Tisch bitten. \nDie Junge Philharmonie Köln präsentiert dort Camille Saint-Saëns‘ „Karneval der Tiere“ sowie Klassiker von Mozart\, Bach und Rossini\, visuell untermalt von den Ballerinas von ballet4you.de.\nEin besonderes Highlight ist das Brunch-Arrangement nach dem Konzert gegen 13 Uhr\, mit dem Sie den musikalischen Nachmittag kulinarisch abrunden können. \nEin Programm voller Eleganz\, abgerundet durch Werke von Mozart\, Bach und Rossini. \nDas Gesamtpaket Konzert plus Brunch kostet 139 €. Für Kinder gibt es Ermässigung.\nAb 13 Uhr beginnt der Brunch und dauert ca. 2 Stunden. \nBei Konzertbesuch ohne Brunch kostet das Ticket 49 € mit Ermässigungen für Kinder \n Vorverkauf:  \nBuchhandlung Werber\, Hauptstraße 40\, 53604  Bad Honnef\, Tel.: 02224/2601\nEngel & Völkers\, Hauptstraße 29\, Bad Honnef & Kaiserstraße 66\, 53721 Siegburg\nBuchhandlung Seidel & Millinger\, Dollendorfer Str. 28\, 53639 Oberpleis\, Tel.02244/81189\nsowie an der Tageskasse 1 Stunde vor Konzertbeginn im Steigenberger Grand Hotel Petersberg \nFoto: PR-Bild des Veranstalters
URL:https://www.stadtjournal.online/event/fruehlingskonzert-2/
ATTACH;FMTTYPE=image/jpeg:https://www.stadtjournal.online/wp-content/uploads/2026/03/JPK_2026.jpg
END:VEVENT
BEGIN:VEVENT
DTSTART;TZID=Europe/Berlin:20260426T110000
DTEND;TZID=Europe/Berlin:20260426T160000
DTSTAMP:20260426T013404
CREATED:20260302T095217Z
LAST-MODIFIED:20260302T095217Z
UID:17194-1777201200-1777219200@www.stadtjournal.online
SUMMARY:Dorfflohmarkt in Sand Königswinter
DESCRIPTION:Sand. So\, 26. April 2026\, 11.00 – 16.00 Uhr \nLiebe Nachbar:innen und Flohmarktfreund:innen\,\nwir freuen uns riesig\, euch zum ersten Dorfflohmarkt in Sand einzuladen! Ein neues Format\, das hoffentlich genauso viel Freude bringt wie gute Funde. \nAls zentralen Treffpunkt haben wir uns den Parkplatz im Waschpohler Weg überlegt. Um lange Wege zu vermeiden und insbesondere denjenigen entgegenzukommen\, die am Ortsrand wohnen oder von außerhalb kommen. \nWer möchte\, kann seinen Stand aber natürlich auch gerne bei sich zu Hause aufstellen. In diesem Fall bitten wir darum\, Luftballons als Wegweiser und Markierung aufzuhängen. \nMitmachen dart jeder! Ob aus dem Dort oder von außerhalb:\nWir freuen uns über alle Teilnehmer:innen. \nWenn ihr dabei sein möchtet\, schickt bitte bis zum 01.04.2026 eine verbindliche Anmeldung an cindelrichter@yahoo.de und schreibt kurz dazu\, was ihr anbieten wollt. \nLasst uns gemeinsam diesen ersten Flohmarkt zu einem fröhlich bunten Erlebnis machen. \nWir sind schon voller Vorfreude und hoffen\, ihr seid es auch!\nHerzliche Grüße\nEuer Flohmarkt-Team
URL:https://www.stadtjournal.online/event/dorfflohmarkt-in-sand-koenigswinter/
ATTACH;FMTTYPE=image/jpeg:https://www.stadtjournal.online/wp-content/uploads/2026/03/flohmarkt-sand-2026.jpg
END:VEVENT
BEGIN:VEVENT
DTSTART;TZID=Europe/Berlin:20260426T110000
DTEND;TZID=Europe/Berlin:20260426T160000
DTSTAMP:20260426T013404
CREATED:20260321T072239Z
LAST-MODIFIED:20260319T101607Z
UID:10881-1777201200-1777219200@www.stadtjournal.online
SUMMARY:Schallplattenbörse
DESCRIPTION:Beuel. So\, 26. April 2026\, 11.00 – 16.00 Uhr \nHier ist der Musikfan richtig. Auch im Börsenangebot: DVDs\, Musik-Videos\, Kassetten\, Poster\, Musikbücher\, Sammlerzubehör und Fan-Souvenirs. Eintritt 5 EUR (Kinder bis 12 Jahre frei) Familienkarte 10 EUR \nBrückenforum Beuel\nFriedrich-Breuer-Straße 17\n53225 Bonn \nFoto: © poomrapee #981949580\, stock.adobe.com
URL:https://www.stadtjournal.online/event/schallplattenboerse/
LOCATION:Brückenforum\, Friedrich-Breuer-Straße 17\, Bonn\, NRW\, 53225\, Deutschland
ATTACH;FMTTYPE=image/jpeg:https://www.stadtjournal.online/wp-content/uploads/2024/10/schallplatte-spieler-vinyl-poomrapeeAdobeStock_981949580.jpg
END:VEVENT
BEGIN:VEVENT
DTSTART;TZID=Europe/Berlin:20260426T110000
DTEND;TZID=Europe/Berlin:20260426T170000
DTSTAMP:20260426T013404
CREATED:20260321T070247Z
LAST-MODIFIED:20260319T101243Z
UID:17382-1777201200-1777222800@www.stadtjournal.online
SUMMARY:Stoffmarkt
DESCRIPTION:Bad Godesberg. So\, 26. April 2026\, 11.00 – 17.00 Uhr \nZahlreiche kreativ dekorierte Stände des Deutsch-Holländische Stoffmarktes verwandeln den Theaterplatz in ein buntes Paradies für Selbermacher. \nAnders als beim Online-Handel\, hat hier jeder Besucher die Möglichkeit die Produkte in die Hand zu nehmen und die Qualität selbst zu begutachten\, denn Stoffe muss man fühlen. Zudem punkten die Aussteller mit fachlicher Kompetenz bei der Beratung und geben Besuchern gerne Infos über die Ware – vom Rohstoff über die Handelsbedingungen bis zur Färbung. \nUnzählige Stoffe in allen nur erdenklichen Mustern\, Farben und Qualitäten können begutachtet und verglichen werden. Das große Sortiment an Kinderstoffen lädt förmlich dazu ein\, die Kinderkleidung selbst zu gestalten und sich bei den bunten Mustern mit witzigen Tiermotiven auszutoben. \nAbgerundet wird das Angebot durch eine riesige Auswahl an Schnittmustern und Kurzwaren wie Applikationen\, Borten\, Nadeln oder Garn. \nFoto: Jacqueline Macou\, Pixabay
URL:https://www.stadtjournal.online/event/stoffmarkt/
ATTACH;FMTTYPE=image/jpeg:https://www.stadtjournal.online/wp-content/uploads/2026/03/stoff-gruen-jacqueline-macou-Pixabay.jpg
END:VEVENT
BEGIN:VEVENT
DTSTART;TZID=Europe/Berlin:20260426T113000
DTEND;TZID=Europe/Berlin:20260426T113000
DTSTAMP:20260426T013404
CREATED:20260320T114330Z
LAST-MODIFIED:20260320T114330Z
UID:17459-1777203000-1777203000@www.stadtjournal.online
SUMMARY:Konrad Adenauer und die Kunst
DESCRIPTION:Rhöndorf. So\, 26. April 2026\, 11.30 Uhr \nKonrad Adenauer war ein leidenschaftlicher Kunstliebhaber. Seine Kunstsammlung\, vor allem Gemälde und Skulpturen mit religiösen Motiven\, war für ihn eine Quelle der Inspiration und Erholung. In dieser Führung entdecken Sie Adenauers Verbundenheit mit der Kunst und erfahren\, wie der Kanzler seine Sammlung mit Hilfe des Kunsthändlers Heinz Kisters über Jahre hinweg aufbaute und pflegte. Die Führung durch das Rhöndorfer Wohnhaus und den malerischen Garten gibt Einblicke in Adenauers persönliche Welt jenseits der Politik. \nEintritt frei. \nAnmeldung erforderlich unter www.adenauerhaus.de \nAdenauerhaus Rhöndorf\nKonrad-Adenauer-Straße 8 c\n53604 Bad Honnef \nFoto: Stiftung Bundeskanzler-Adenauer-Haus © McBride
URL:https://www.stadtjournal.online/event/konrad-adenauer-und-die-kunst/
LOCATION:Adenauer-Haus\, Konrad-Adenauer-Straße 8c\, Rhöndorf\, 53604
ATTACH;FMTTYPE=image/jpeg:https://www.stadtjournal.online/wp-content/uploads/2026/03/adenauer_McBride_Kunst.jpg
END:VEVENT
BEGIN:VEVENT
DTSTART;TZID=Europe/Berlin:20260426T140000
DTEND;TZID=Europe/Berlin:20260426T153000
DTSTAMP:20260426T013404
CREATED:20260321T071530Z
LAST-MODIFIED:20260317T123927Z
UID:3065-1777212000-1777217400@www.stadtjournal.online
SUMMARY:Führung: Friedhof Palastweiher
DESCRIPTION:Königswinter. So\, 26. April 2026\, 14 Uhr \nFriedhöfe sind als Orte der Erinnerung im besonderen Maße mit dem facettenreichen Leben einer Stadt verbunden. Zugleich stellen sie die Menschen in den Mittelpunkt\, die hier ihre letzte Ruhe gefunden haben. Der Rundgang auf dem Königswinterer Friedhof am Palastweiher führt zu den Gräbern prominenter Persönlichkeiten\, Ehrenbürger und Politker. Im Blickpunkt stehen aber auch Handwerker\, Künstler oder Königswinterer „Originale“ wie das „Herrmännchen“. Außerdem wird über die lange Geschichte des Friedhofs selbst berichtet\, der im frühen 19. Jahrhundert angelegt wurde. \nDauer: 1\,5 Stunden\nTreffpunkt: Siebengebirgsmuseum \nKosten: 7 Euro\, ermäßigt 5\,50 Euro \nFoto: © Siebengebirgsmuseum
URL:https://www.stadtjournal.online/event/fuehrung-friedhof-palastweiher/
LOCATION:Siebengebirgsmuseum\, Kellerstraße 16\, Königswinter\, NRW\, 53639\, Deutschland
ATTACH;FMTTYPE=image/jpeg:https://www.stadtjournal.online/wp-content/uploads/2024/03/friedhof-palastweiher-Siebengebirgsmuseum.jpg
END:VEVENT
BEGIN:VEVENT
DTSTART;TZID=Europe/Berlin:20260426T140000
DTEND;TZID=Europe/Berlin:20260426T153000
DTSTAMP:20260426T013404
CREATED:20260321T073237Z
LAST-MODIFIED:20260319T133739Z
UID:17439-1777212000-1777217400@www.stadtjournal.online
SUMMARY:Führung Siegburgs alter Friedhof
DESCRIPTION:Siegburg. So\, 26. April 2026\, 14.00 – 15.30 Uhr \nMit Bertrand Stern\nNachdem in der napoleonischen Zeit keine Bestattungen neben der innerstädtischen Sankt-Servatius-Kirche vorgenommen werden durften\, wurde 1807 außerhalb der damaligen Stadtmauern ein neuer Friedhof eingeweiht: in Siegburg als „der alte Friedhof“ bezeichnet. Trotz der 1855 vorgenommenen Erweiterung wurde diese Bestattungsstätte zu klein\, weshalb ab 1908 der „Nordfriedhof“ angelegt wurde; nichtsdestotrotz fanden bis 1965 Bestattungen auf dem „alten Friedhof“ statt. Einige der erhaltenen Grabmale bezeugen die Geschichtsträchtigkeit dieses Ortes und verweisen auf zum Teil wichtige Persönlichkeiten Siegburgs. \nAnmeldung unter: 0 22 41 / 5 38 48 oder 0176 / 52 20 05 75 \nDie Teilnahme kostet 6 € pro Person\, Kinder und Jugendliche bis einschließlich 14 Jahren zahlen 3 €. \nFoto: ©helmutvogler #389031796\, stock.adobe.com
URL:https://www.stadtjournal.online/event/fuehrung-siegburgs-alter-friedhof/
ATTACH;FMTTYPE=image/jpeg:https://www.stadtjournal.online/wp-content/uploads/2023/03/engel-alter-friedhof-AdobeStock_389031796.jpg
END:VEVENT
BEGIN:VEVENT
DTSTART;TZID=Europe/Berlin:20260426T150000
DTEND;TZID=Europe/Berlin:20260426T150000
DTSTAMP:20260426T013404
CREATED:20260420T105826Z
LAST-MODIFIED:20260420T105826Z
UID:17999-1777215600-1777215600@www.stadtjournal.online
SUMMARY:Jazz auf der Schlossterrasse Vol. 3
DESCRIPTION:Bad Honnef. So\, 26. April 2026\, 15 Uhr \n„Let’s Get Loud!“ – Jazz-Nachwuchs bringt die Schlossterrasse zum Klingen  \nSchloss Hagerhof lädt zur dritten Auflage von „Jazz auf der Schlossterrasse“. Am Sonntag\, den 26. April um 15.00 Uhr\, erwartet das Publikum eine mitreißende Mischung aus Bigband-Sound und hochkarätigem Vokal-Jazz. \nNach den Erfolgen der Vorjahre geht die Konzertreihe „Jazz auf der Schlossterrasse“ in die dritte Runde. Das Konzept bleibt seiner Linie treu: Unter dem Motto „Jugend Jazzt“ wird der Hagerhof zur Bühne für die Stars von morgen und fördert den regionalen Austausch zwischen jungen Musiktalenten. \nEin Programm der Kontraste: Von Nat King Cole bis Jennifer Lopez\nIn diesem Jahr setzt die Veranstaltung auf eine besondere Mischung aus instrumentaler Power und stimmlicher Finesse. Zu Gast der Hagerhof Rhine-Bigband ist dieses Jahr die EMA-Nachwuchsbigband des Bonner Ernst-Moritz-Arndt-Gymnasiums. Für die vokalen Highlights sorgt das hauseigene Vokalensemble Broadway Singers sowie als besonderer und „Special Guest“\, der renommierte Bonner Jazzchor unter der Leitung von Andrea Figallo. \nSynergien schaffen und Premiere feiern\n„Erste Gehversuche im Jazz finden seit jeher häufig im geschützten Rahmen von Schulbands statt!“\, erklären die beteiligten Bigband-Leiter Thomas Heck\, Juri Eckhoff und Jürgen Roth. Umso wichtiger sei der Austausch zwischen den Schulen\, um Gemeinsamkeiten zu entdecken und Synergien zu nutzen. Ein besonderes Highlight wird die Uraufführung eines Bigband-Arrangements von „Beat It“ sein\, das komplett aus Schülerhand des erst 15-jährigen Max Koch stammt. Das Motto „Let’s Get Loud!“ soll verdeutlichen\, welche positive Kraft Musik entfalten kann. Kulinarik und freier Eintritt\nNeben dem musikalischen Genuss ist auch für das leibliche Wohl gesorgt: Die Schülerinnen und Schüler der Jahrgangsstufe Q1 übernehmen die Bewirtung und bieten den Gästen eine Auswahl an warmen und kalten Speisen sowie Getränken an. \nDer Eintritt ist frei\, bei schlechtem Wetter findet das Konzert in der Turnhalle statt! \nSchloss Hagerhof\, Menzenberg 13\, 53604 Bad Honnef\nwww.hagerhof.de \nFoto: PR-Bild des Veranstalters
URL:https://www.stadtjournal.online/event/jazz-auf-der-schlossterrasse-vol-3/
ATTACH;FMTTYPE=image/jpeg:https://www.stadtjournal.online/wp-content/uploads/2026/04/band-hagerhof.jpg
END:VEVENT
BEGIN:VEVENT
DTSTART;TZID=Europe/Berlin:20260426T150000
DTEND;TZID=Europe/Berlin:20260426T170000
DTSTAMP:20260426T013404
CREATED:20260117T073124Z
LAST-MODIFIED:20260318T140654Z
UID:10066-1777215600-1777222800@www.stadtjournal.online
SUMMARY:Willkommen auf dem „Zauberberg“
DESCRIPTION:Bad Honnef. So\, 26. April 2026\, 15 –17 Uhr \nLassen Sie sich verzaubern von einem Honnefer Märchenschloss. 1892 wurde das Haus Hohenhonnef als Heilanstalt für Lungenkranke eröffnet und war weit über die Grenzen Deutschlands bekannt. Heute ist das Gebäude und das große umliegende Gelände Heimat für Menschen mit Behinderung.\nWollen Sie die ersten sein\, die in den Genuss einer exklusiven Führung kommen?\nProf. Dr. Claudia Solzbacher und Mitarbeiter der Hohenhonnef GmbH bieten eine Führung an\, bei der Sie die Gelegenheit haben\, das Gebäude kennen zu lernen\, in die feudalen vergangenen Zeiten abzutauchen und mehr über das heutige Leben und Arbeiten dort zu erfahren. Im Anschluss daran gibt es Kuchen und Getränke im hauseigenen Café. \nTickets können nur vorab bei der Stadtinformation\, Arboretum-Passage\, Hauptstr. 63 d zum Preis von 7\,50 EUR (inklusive Cafe-Besuch) erworben werden.\nTreffpunkt der Führung ist vor dem Haupteingang des Gebäudes\, Bergstr. 111\, 53604 Bad Honnef. \nFoto: PR-Bild des Veranstalters
URL:https://www.stadtjournal.online/event/willkommen-auf-dem-zauberberg/
LOCATION:Hohenhonnef\, Bergstraße 111\, Bad Honnef\, 53604
ATTACH;FMTTYPE=image/jpeg:https://www.stadtjournal.online/wp-content/uploads/2024/08/Hohenhonnef_pressebild.jpg
END:VEVENT
BEGIN:VEVENT
DTSTART;TZID=Europe/Berlin:20260426T170000
DTEND;TZID=Europe/Berlin:20260426T170000
DTSTAMP:20260426T013404
CREATED:20260420T110446Z
LAST-MODIFIED:20260420T110446Z
UID:18002-1777222800-1777222800@www.stadtjournal.online
SUMMARY:Konzert Ritmos y Melodías
DESCRIPTION:Königswinter. So\, 26. April 2026\, 17 Uhr \nAm Sonntag\, den 26. April 2026\, wird im Haus Bachem in Königswinter ein außergewöhnliches Konzert zu erleben sein. Um 17 Uhr entführen die Musiker Jakob Kümmel (Gitarre)\, Felix Reckers (Gitarre) und Lea Hüttemann (Querflöte) ihr Publikum auf eine faszinierende musikalische Reise durch die traditionsreiche und leidenschaftliche Musik Spaniens und Südamerikas. \nDas präsentierte Konzertprogramm umfasst Werke großer Komponisten wie Francisco Tárrega\, Manuel de Falla\, Maurice Ravel und Ástor Piazzolla\, die allesamt mit ihren einzigartigen Kompositionen die Musikgeschichte Spaniens und Argentiniens maßgeblich prägten. Die Musiker nehmen das Publikum mit von den letzten Ausläufern der Romantik in das aufregende Zeitalter der 1920er Jahre\, das von innovativen Klangexperimenten und neuen musikalischen Ausdrucksformen gekennzeichnet war. Dabei greifen sie stets auf die tief verwurzelte kulturelle Identität der beiden Regionen zurück. \nJakob Kümmel und Felix Reckers\, beide langjährige Schüler der Gitarrenklasse von Götz Berger an der Musikschule der Stadt Königswinter\, haben sich bereits als versierte und gefragte Musiker einen Namen gemacht. Lea Hüttemann\, Querflötenschülerin von Christiane Ehses\, ist Mitglied der Sinfonia Königswinter und hat eine langjährige musikalische Zusammenarbeit mit Felix Reckers\, mit dem sie bereits zahlreiche Erfolge wie erste Preise bei „Musizierende Jugend“ und „Jugend musiziert“ NRW feierte. \nDer Eintritt ist frei\, um eine Hutgage wird gebeten. \nHalle Haus Bachem\, Drachenfelsstrasse 4\, 53639 Königswinter
URL:https://www.stadtjournal.online/event/konzert-ritmos-y-melodias/
ATTACH;FMTTYPE=image/jpeg:https://www.stadtjournal.online/wp-content/uploads/2026/04/Plakat_Musik_spanisch_April2026.jpg
END:VEVENT
BEGIN:VEVENT
DTSTART;TZID=Europe/Berlin:20260426T170000
DTEND;TZID=Europe/Berlin:20260426T180000
DTSTAMP:20260426T013404
CREATED:20251115T071708Z
LAST-MODIFIED:20260316T103312Z
UID:16004-1777222800-1777226400@www.stadtjournal.online
SUMMARY:Klassik im Kunstraum
DESCRIPTION:Bad Honnef. So\, 26. April 2026\, 17.00 Uhr \nKira Elisabeth Koch und Karla Haltenwanger präsentieren unter dem Titel „Frühling\, Eleganz und Ekstase“ Werke für Violine und Klavier von Wolfgang Amadeus Mozart\, Ludwig van Beethoven\, Pjotr Iljitsch Tschaikowski und Maurice Ravel. \nDer Eintritt kostet 20 Euro (erm. 10 Euro). Kartenreservierungen: 0173 / 2 99 44 37 oder klassik@kunstraum-badhonnef.de \nErleben Sie ein Konzert voll musikalischer Intensität mit der jungen Geigerin Kira Elisabeth Koch\, einem der herausragendsten Talente Deutschlands\, und ihrer Mutter\, der international renommierten Pianistin Karla Haltenwanger. Dieses eingespielte Duo verbindet tief empfundene Musikalität\, technische Brillanz und eine charismatische Bühnenpräsenz – getragen von einer gemeinsamen Leidenschaft\, die Generationen verbindet. Sie spielen ein festliches Programm voller Leidenschaft\, Poesie und Virtuosität – von zarter Klassik bis hin zu feuriger Romantik. \nFoto: Koch/Haltenwanger
URL:https://www.stadtjournal.online/event/klassik-im-kunstraum-7/
LOCATION:Kunstraum Bad Honnef\, Rathausplatz 3\, Bad Honnef\, Bundesstaat wählen:\, 53604\, Germany
ATTACH;FMTTYPE=image/jpeg:https://www.stadtjournal.online/wp-content/uploads/2025/11/Klassik-im-Kunstraum-Foto-Koch-Haltenwanger.jpg
END:VEVENT
BEGIN:VEVENT
DTSTART;TZID=Europe/Berlin:20260426T190000
DTEND;TZID=Europe/Berlin:20260426T190000
DTSTAMP:20260426T013404
CREATED:20260321T072500Z
LAST-MODIFIED:20260318T123127Z
UID:12269-1777230000-1777230000@www.stadtjournal.online
SUMMARY:J. S. Bach und sein Nachleben
DESCRIPTION:Unkel. So\, 26. April 2026\, 19.00 Uhr \nErzählkonzert mit Roman Salyutov \nZu seinen Lebzeiten nur in einem relativ engen Kreis anerkannt und nach dem Tod für mehrere Jahrzehnte aus dem Bewusstsein des Publikums verschwunden\, erlebte die Musik Johann Sebastian Bachs im 19. Jahrhundert eine beeindruckende Renaissance – und dabei nicht nur in Form von Aufführungen seiner verschiedensten Kompositionen\, sondern auch durch kompositorische Transformation. Bachs Musik hat viele Komponisten zu eigenen Werken inspiriert. An diesem Abend wird das Schaffen von J. S. Bach durch das Prisma seiner Wahrnehmung durch andere große Komponisten der Klassik und der Romantik betrachtet – W. A. Mozart\, L. van Beethoven\, F. Busoni\, C. Franck und J. Brahms. \nEintritt 32 EUR inkl. kleine Pausenmahlzeit \nEinlass 18.15 \nVilla Weingärtner\nScheurener Str. 25\n53572 Unkel\nTel: 0 22 24 / 987 67 14\nE-Mail: info@villa-weingaertner.de \nFoto: Fotolia 142078271
URL:https://www.stadtjournal.online/event/j-s-bach-und-sein-nachleben/
LOCATION:Villa Weingärtner\, Scheurener Str. 25\, Unkel\, RLP\, 53572\, Deutschland
ATTACH;FMTTYPE=image/jpeg:https://www.stadtjournal.online/wp-content/uploads/2022/11/Fotolia_142078271_S_Klavier.jpg
END:VEVENT
END:VCALENDAR